Workbook

Sheet 高学年女子
A1: 第54回鹿児島県スポーツ少年団競技別交歓大会
A3: バドミントン競技［小学生団体：高学年女子］参加申込書
A5: 団 名 | D5: バドミントン スポーツ少年団 | E5: 単位団 登録番号 | H5: 市町村 | O5: の部分は高学年
A6: 指導者名 | G6: 理念 | H6: あり | M6: 女子にエントリーがなくても記入してください。 他の種目にコピーされます。
A7: 連絡先 | B7: 〒 | H7: スポーツ安全 保険加入番号
B8: ☎ | M8: 指導者名は理念「あり」の人を
A9: 小学生高学年女子 | G9: 補充の時のみ記入 | M9: 記入してください。
A10: No. | C10: 選手名 | F10: 学年 | G10: 市町村名 ブロック名 | H10: 団名 | M10: 他の団からの補充は2人までです。 自団の選手が1人又は2人しか いない場合はエントリーできません。
C11: 姓 | D11: 名 | E11: フリガナ (半角カタカナ）
A12: 1
A13: 2
A14: 3
A15: 4 | M15: =IF(COUNTA(C12:C21)<4,"3人以下の選手数では エントリーできません 4人入力するとこれは消えます","") -> 3人以下の選手数では エントリーできません 4人入力するとこれは消えます
A16: 5
A17: 6
A18: 7 | M18: =IF(COUNTA(H12:K21)>2,"他の団からの補充は2人までです","")
A19: 8
A20: 9
A21: 10
A23: 上記のとおり申し込みます
G25: 令和 8 年 | I25: 月 | K25: 日 | N25: 記入漏れのないように
E27: チーム責任者 （ | K27: ） | N27: 記入漏れのないように
A29: 上記の選手及び指導者は，令和8年度スポーツ少年団員と指導者として登録していることを認め，
A30: 登録が確認できるページを印刷したものを添付します。
B33: ( | E33: ）スポーツ少年団本部長（ | K33: ）
E36: 登録チェック者（ | K36: ）

Sheet 低学年女子
A1: =高学年女子!A1 -> 第54回鹿児島県スポーツ少年団競技別交歓大会
A3: バドミントン競技［小学生団体：低学年女子］参加申込書
A5: 団 名 | C5: =IF(高学年女子!C5="","",高学年女子!C5) | D5: バドミントン スポーツ少年団 | E5: 単位団 登録番号 | F5: =IF(高学年女子!$F$5="","",高学年女子!$F$5) | H5: 市町村 | J5: =IF(高学年女子!J5="","",高学年女子!J5) | K5: =IF(高学年女子!K5="","",高学年女子!K5)
A6: 指導者名 | C6: =IF(高学年女子!C6="","",高学年女子!C6) | D6: =IF(高学年女子!D6="","",高学年女子!D6) | E6: =IF(高学年女子!E6="","",高学年女子!E6) | F6: =IF(高学年女子!F6="","",高学年女子!F6) | G6: 理念 | H6: =IF(高学年女子!H6="","",高学年女子!H6) -> あり | I6: =IF(高学年女子!I6="","",高学年女子!I6) | J6: =IF(高学年女子!J6="","",高学年女子!J6) | K6: =IF(高学年女子!K6="","",高学年女子!K6) | N6: 高学年女子の欄に記入してください この部分にコピーされます。
A7: 連絡先 | B7: 〒 | C7: =IF(高学年女子!C7="","",高学年女子!C7) | D7: =IF(高学年女子!$D$7="","",高学年女子!$D$7) | H7: スポーツ安全 保険加入番号
B8: ☎ | C8: =IF(高学年女子!$C$8="","",高学年女子!$C$8) | H8: =IF(高学年女子!$H$8="","",高学年女子!$H$8)
A9: 小学生低学年女子 | G9: 補充の時のみ記入
A10: No. | C10: 選手名 | F10: 学年 | G10: 市町村名 ブロック名 | H10: 団名 | M10: 他の団からの補充は2人までです。 自団の選手が1人又は2人しか いない場合はエントリーできません。
C11: 姓 | D11: 名 | E11: フリガナ (半角カタカナ）
A12: 1
A13: 2
A14: 3
A15: 4 | M15: =IF(COUNTA(C12:C21)<4,"3人以下の選手数では エントリーできません ４人入力するとこれは消えます","") -> 3人以下の選手数では エントリーできません ４人入力するとこれは消えます
A16: 5
A17: 6
A18: 7 | M18: =IF(COUNTA(H12:K21)>2,"他の団からの補充は2人までです","")
A19: 8
A20: 9
A21: 10
A23: 上記のとおり申し込みます
G25: =高学年女子!G25 -> 令和 8 年 | H25: =IF(高学年女子!H25="","",高学年女子!H25) | I25: 月 | J25: =IF(高学年女子!J25="","",高学年女子!J25) | K25: 日
E27: チーム責任者 （ | K27: ）
A29: =高学年女子!A29 -> 上記の選手及び指導者は，令和8年度スポーツ少年団員と指導者として登録していることを認め，
A30: 登録が確認できるページを印刷したものを添付します。
B33: ( | E33: ）スポーツ少年団本部長（ | K33: ）
E36: 登録チェック者（ | K36: ）

Sheet 高学年男子
A1: =高学年女子!A1 -> 第54回鹿児島県スポーツ少年団競技別交歓大会
A3: バドミントン競技［小学生団体：高学年男子］参加申込書
A5: 団 名 | C5: =IF(高学年女子!C5="","",高学年女子!C5) | D5: バドミントン スポーツ少年団 | E5: 単位団 登録番号 | F5: =IF(高学年女子!$F$5="","",高学年女子!$F$5) | H5: 市町村 | J5: =IF(高学年女子!J5="","",高学年女子!J5) | K5: =IF(高学年女子!K5="","",高学年女子!K5)
A6: 指導者名 | C6: =IF(高学年女子!C6="","",高学年女子!C6) | D6: =IF(高学年女子!D6="","",高学年女子!D6) | E6: =IF(高学年女子!E6="","",高学年女子!E6) | F6: =IF(高学年女子!F6="","",高学年女子!F6) | G6: 理念 | H6: =IF(高学年女子!H6="","",高学年女子!H6) -> あり | I6: =IF(高学年女子!I6="","",高学年女子!I6) | J6: =IF(高学年女子!J6="","",高学年女子!J6) | K6: =IF(高学年女子!K6="","",高学年女子!K6) | N6: 高学年女子の欄に記入してください この部分にコピーされます。
A7: 連絡先 | B7: 〒 | C7: =IF(高学年女子!C7="","",高学年女子!C7) | D7: =IF(高学年女子!$D$7="","",高学年女子!$D$7) | H7: スポーツ安全 保険加入番号
B8: ☎ | C8: =IF(高学年女子!$C$8="","",高学年女子!$C$8) | H8: =IF(高学年女子!$H$8="","",高学年女子!$H$8)
A9: 小学生高学年男子 | G9: 補充の時のみ記入
A10: No. | B10: 選手名 | C10: 選手名 | F10: 学年 | G10: 市町村名 ブロック名 | H10: 団名 | M10: 他の団からの補充は 2人までです。 自団の選手が1人しか いない場合はエントリーできません。
B11: 姓 | C11: 姓 | D11: 名 | E11: フリガナ (半角カタカナ）
A12: 1
A13: 2
A14: 3
A15: 4 | M15: =IF(COUNTA(C12:C19)<3,"2人以下の選手数では エントリーできません ３人入力するとこれは消えます","") -> 2人以下の選手数では エントリーできません ３人入力するとこれは消えます
A16: 5
A17: 6
A18: 7 | M18: =IF(COUNTA(H12:K19)>2,"他の団からの補充は2人までです","")
A19: 8
A23: 上記のとおり申し込みます
G25: =IF(高学年女子!G25="","",高学年女子!G25) -> 令和 8 年 | H25: =IF(高学年女子!H25="","",高学年女子!H25) | I25: 月 | J25: =IF(高学年女子!J25="","",高学年女子!J25) | K25: 日
E27: チーム責任者 （ | G27: =IF(高学年女子!G27="","",高学年女子!G27) | K27: )
A29: =高学年女子!A29 -> 上記の選手及び指導者は，令和8年度スポーツ少年団員と指導者として登録していることを認め，
A30: 登録が確認できるページを印刷したものを添付します。
B33: ( | E33: ）スポーツ少年団本部長（ | K33: )
E36: 登録チェック者（ | G36: =IF(高学年女子!G36="","",高学年女子!G36) | K36: )

Sheet 低学年男子
A1: =高学年女子!A1 -> 第54回鹿児島県スポーツ少年団競技別交歓大会
A3: バドミントン競技［小学生団体：低学年男子］参加申込書
A5: 団 名 | C5: =IF(高学年女子!$C$5="","",高学年女子!$C$5) | D5: バドミントン スポーツ少年団 | E5: 単位団 登録番号 | F5: =IF(高学年女子!$F$5="","",高学年女子!$F$5) | H5: 市町村 | J5: =IF(高学年女子!J5="","",高学年女子!J5) | K5: =IF(高学年女子!K5="","",高学年女子!K5)
A6: 指導者名 | C6: =IF(高学年女子!C6="","",高学年女子!C6) | D6: =IF(高学年女子!D6="","",高学年女子!D6) | E6: =IF(高学年女子!E6="","",高学年女子!E6) | F6: =IF(高学年女子!F6="","",高学年女子!F6) | G6: 理念 | H6: =IF(高学年女子!H6="","",高学年女子!H6) -> あり | I6: =IF(高学年女子!I6="","",高学年女子!I6) | J6: =IF(高学年女子!J6="","",高学年女子!J6) | K6: =IF(高学年女子!K6="","",高学年女子!K6) | N6: 高学年女子の欄に記入してください この部分にコピーされます。
A7: 連絡先 | B7: 〒 | C7: =IF(高学年女子!$C$7="","",高学年女子!$C$7) | D7: =IF(高学年女子!$D$7="","",高学年女子!$D$7) | H7: スポーツ安全 保険加入番号
B8: ☎ | C8: =IF(高学年女子!$C$8="","",高学年女子!$C$8) | H8: =IF(高学年女子!$H$8="","",高学年女子!$H$8)
A9: 小学生低学年男子 | G9: 補充の時のみ記入
A10: No. | B10: 選手名 | C10: 選手名 | F10: 学年 | G10: 市町村名 ブロック名 | H10: 団名 | M10: 他の団からの補充は 2人までです。 自団の選手が1人しか いない場合はエントリーできません。
B11: 姓 | C11: 姓 | D11: 名 | E11: フリガナ (半角カタカナ）
A12: 1
A13: 2
A14: 3
A15: 4 | M15: =IF(COUNTA(C12:C19)<3,"2人以下の選手数では エントリーできません ３人入力するとこれは消えます","") -> 2人以下の選手数では エントリーできません ３人入力するとこれは消えます
A16: 5
A17: 6
A18: 7 | M18: =IF(COUNTA(H12:K19)>2,"他の団からの補充は2人までです","")
A19: 8
A23: 上記のとおり申し込みます
G25: =IF(高学年女子!G25="","",高学年女子!G25) -> 令和 8 年 | H25: =IF(高学年女子!H25="","",高学年女子!H25) | I25: 月 | J25: =IF(高学年女子!J25="","",高学年女子!J25) | K25: 日
E27: チーム責任者 （ | G27: =IF(高学年女子!G27="","",高学年女子!G27) | K27: ）
A29: =高学年女子!A29 -> 上記の選手及び指導者は，令和8年度スポーツ少年団員と指導者として登録していることを認め，
A30: 登録が確認できるページを印刷したものを添付します。
B33: ( | E33: ）スポーツ少年団本部長（ | K33: ）
E36: 登録チェック者（ | K36: ）

Sheet 中学男女
A1: =高学年女子!A1 -> 第54回鹿児島県スポーツ少年団競技別交歓大会
A3: バドミントン競技［中学生個人］参加申込書
A5: 団 名 | C5: =IF(高学年女子!$C$5="","",高学年女子!$C$5) | E5: バドミントン スポーツ少年団 | G5: 単位団 登録 番号 | H5: =IF(高学年女子!$F$5="","",高学年女子!$F$5) | J5: 市町村 | K5: =IF(高学年女子!$J$5="","",高学年女子!$J$5)
A6: 指導者名 | C6: =IF(高学年女子!$C$6="","",高学年女子!$C$6) | G6: 理念 | J6: =IF(高学年女子!$H$6="","",高学年女子!$H$6) -> あり | O6: 高学年女子の欄に記入してください この部分にコピーされます。
A7: 連絡先 | B7: 〒 | C7: =IF(高学年女子!$C$7="","",高学年女子!$C$7) | D7: =IF(高学年女子!$D$7="","",高学年女子!$D$7) | J7: スポーツ安全 保険加入番号
B8: ☎ | C8: =IF(高学年女子!$C$8="","",高学年女子!$C$8) | J8: =IF(高学年女子!$H$8="","",高学年女子!$H$8)
A9: 中 学 男 子 | G9: 中 学 女 子
A10: No. | C10: 選手名 | F10: 学年 | G10: No. | I10: 選手名 | L10: 学年
C11: 姓 | D11: 名 | E11: フリガナ (半角カタカナ） | I11: 姓 | J11: 名 | K11: フリガナ (半角カタカナ）
A12: 1 | G12: 1 | N12: 強い順に入力 してください
A13: 2 | G13: 2
A14: 3 | G14: 3
A15: 4 | G15: 4
A16: 5 | G16: 5
A17: 6 | G17: 6
A18: 7 | G18: 7
A19: 8 | G19: 8
A20: 9 | G20: 9
A21: 10 | G21: 10
A22: 11 | G22: 11
A23: 12 | G23: 12
A24: 13 | G24: 13
... A26: 15 | G26: 15
A28: 上記のとおり申し込みます
C30: =IF(高学年女子!C25="","",高学年女子!C25) | E30: =IF(高学年女子!G25="","",高学年女子!G25) -> 令和 8 年 | F30: =IF(高学年女子!H25="","",高学年女子!H25) | G30: 月 | H30: =IF(高学年女子!J25="","",高学年女子!J25) | I30: 日
E32: チーム責任者 （ | H32: =IF(高学年女子!G27="","",高学年女子!G27) | K32: )
A34: =高学年女子!A29 -> 上記の選手及び指導者は，令和8年度スポーツ少年団員と指導者として登録していることを認め，
A35: 登録が確認できるページを印刷したものを添付します。
B38: ( | E38: ）スポーツ少年団本部長（ | K38: )
D41: 登録チェック者（ | K41: )

Sheet 集計表
A1: =高学年女子!A1 -> 第54回鹿児島県スポーツ少年団競技別交歓大会
A2: バドミントン競技参加申込集計表
A4: 団名 | B4: =IF(高学年女子!$C$5="","",高学年女子!$C$5) | D4: バドミントンスポーツ少年団
A5: 申込 責任者 | J5: 記入漏れのないように
A6: 参加種目 | C6: 参加者内訳 | F6: 参加者数計
A7: 小学生団体 | B7: 高学年男子 | C7: 自団の選手数 | D7: =IF(D8="",F7,F7-D8) | E7: 人 | F7: =IF(COUNTA(高学年男子!C12:C19)=0,"",COUNTA(高学年男子!C12:C19)) | G7: 人
C8: 他団から補充数 | D8: =IF(COUNTA(高学年男子!H12:H19)=0,"",COUNTA(高学年男子!H12:H19)) | E8: 人
B9: 低学年男子 | C9: 自団の選手数 | D9: =IF(D10="",F9,F9-D10) | E9: 人 | F9: =IF(COUNTA(低学年男子!C12:C19)=0,"",COUNTA(低学年男子!C12:C19)) | G9: 人
C10: 他団から補充数 | D10: =IF(COUNTA(低学年男子!H12:H19)=0,"",COUNTA(低学年男子!H12:H19)) | E10: 人
B11: 高学年女子 | C11: 自団の選手数 | D11: =IF(D12="",F11,F11-D12) | E11: 人 | F11: =IF(COUNTA(高学年女子!C12:C21)=0,"",COUNTA(高学年女子!C12:C21)) | G11: 人
C12: 他団から補充数 | D12: =IF(COUNTA(高学年女子!H12:H21)=0,"",COUNTA(高学年女子!H12:H21)) | E12: 人
B13: 低学年女子 | C13: 自団の選手数 | D13: =IF(D14="",F13,F13-D14) | E13: 人 | F13: =IF(COUNTA(低学年女子!C12:C21)=0,"",COUNTA(低学年女子!C12:C21)) | G13: 人
C14: 他団から補充数 | D14: =IF(COUNTA(低学年女子!H12:H21)=0,"",COUNTA(低学年女子!H12:H21)) | E14: 人
A15: 中学生個人 | B15: 男子シングルス | D15: =IF(COUNTA(中学男女!C12:C26)=0,"",COUNTA(中学男女!C12:C26)) | F15: 人 | I15: 参 加 料
B16: 女子シングルス | D16: =IF(COUNTA(中学男女!I12:I26)=0,"",COUNTA(中学男女!I12:I26)) | F16: 人 | I16: 団体戦 | J16: 500 | K16: 円/種目
A17: 参 加 料 | D17: =IF(COUNT(F7:F14)=0,"",(COUNT(F7:F14)*J16)+IF((D15+D16)=0,"",(D15+D16)*J17)) | F17: 円 | I17: 個人戦 | J17: 100 | K17: 円/人
J18: 記入漏れのないように
